BEGIN:VCALENDAR
VERSION:2.0
PRODID:-//Lisa Dae Music | Jazz Vocalist - ECPv6.15.20//NONSGML v1.0//EN
CALSCALE:GREGORIAN
METHOD:PUBLISH
X-WR-CALNAME:Lisa Dae Music | Jazz Vocalist
X-ORIGINAL-URL:https://lisadaemusic.com
X-WR-CALDESC:Events for Lisa Dae Music | Jazz Vocalist
REFRESH-INTERVAL;VALUE=DURATION:PT1H
X-Robots-Tag:noindex
X-PUBLISHED-TTL:PT1H
BEGIN:VTIMEZONE
TZID:America/Los_Angeles
BEGIN:DAYLIGHT
TZOFFSETFROM:-0800
TZOFFSETTO:-0700
TZNAME:PDT
DTSTART:20240310T100000
END:DAYLIGHT
BEGIN:STANDARD
TZOFFSETFROM:-0700
TZOFFSETTO:-0800
TZNAME:PST
DTSTART:20241103T090000
END:STANDARD
BEGIN:DAYLIGHT
TZOFFSETFROM:-0800
TZOFFSETTO:-0700
TZNAME:PDT
DTSTART:20250309T100000
END:DAYLIGHT
BEGIN:STANDARD
TZOFFSETFROM:-0700
TZOFFSETTO:-0800
TZNAME:PST
DTSTART:20251102T090000
END:STANDARD
BEGIN:DAYLIGHT
TZOFFSETFROM:-0800
TZOFFSETTO:-0700
TZNAME:PDT
DTSTART:20260308T100000
END:DAYLIGHT
BEGIN:STANDARD
TZOFFSETFROM:-0700
TZOFFSETTO:-0800
TZNAME:PST
DTSTART:20261101T090000
END:STANDARD
END:VTIMEZONE
BEGIN:VEVENT
DTSTART;TZID=America/Los_Angeles:20250725T170000
DTEND;TZID=America/Los_Angeles:20250725T200000
DTSTAMP:20260419T200506
CREATED:20250417T023108Z
LAST-MODIFIED:20250417T023108Z
UID:1089-1753462800-1753473600@lisadaemusic.com
SUMMARY:Lisa Dae @ Thai Lahnna
DESCRIPTION:Summer fun outside! \nLineup: \nClay Giberson – Piano \nDave Captein – Bass \nJason Palmer – Drums
URL:https://lisadaemusic.com/event/lisa-dae-thai-lahnna/
CATEGORIES:Public Gig - reservations suggested
ATTACH;FMTTYPE=image/jpeg:https://lisadaemusic.com/wp-content/uploads/2024/05/jazz_at_wilfs.jpg
END:VEVENT
END:VCALENDAR